BEGIN:VCALENDAR
VERSION:2.0
PRODID:SchoolNow
CALSCALE:GREGORIAN
BEGIN:VEVENT
UID:b4bc1dfe-3d88-11f1-a425-0ef52274c7f3
DTSTAMP:20260421T134758Z
SUMMARY:Special & Shade Meeting - May 2026
LOCATION:Eaton Realty\,  14012 Spector Road\,  Lithia FL 33547
URL;VALUE=URI:https://www.fishhawkcdd4.org/calendar/9009100/special-shade-m
 eeting-may-2026
DTSTART:20260501T140000Z
DTEND:20260501T160000Z
END:VEVENT
END:VCALENDAR
